BEGIN:VCALENDAR
VERSION:2.0
PRODID:-//ISS Solutions - ECPv6.15.11//NONSGML v1.0//EN
CALSCALE:GREGORIAN
METHOD:PUBLISH
X-WR-CALNAME:ISS Solutions
X-ORIGINAL-URL:https://www.isssolutions.com
X-WR-CALDESC:Events for ISS Solutions
REFRESH-INTERVAL;VALUE=DURATION:PT1H
X-Robots-Tag:noindex
X-PUBLISHED-TTL:PT1H
BEGIN:VTIMEZONE
TZID:UTC
BEGIN:STANDARD
TZOFFSETFROM:+0000
TZOFFSETTO:+0000
TZNAME:UTC
DTSTART:20240101T000000
END:STANDARD
END:VTIMEZONE
BEGIN:VEVENT
DTSTART;TZID=UTC:20260407T080000
DTEND;TZID=UTC:20260409T170000
DTSTAMP:20260424T134829
CREATED:20260108T183427Z
LAST-MODIFIED:20260108T183427Z
UID:2164-1775548800-1775754000@www.isssolutions.com
SUMMARY:MD Expo 2026
DESCRIPTION:MD Expo is a leading conference and trade show for healthcare technology management (HTM) professionals. The event brings together clinical engineers\, biomedical technicians\, managers\, procurement and asset managers\, and other medical technology stakeholders to connect\, gain insight into current industry trends\, and explore innovative products and services. Attendees can engage with HTM vendors in the exhibit hall and participate in educational sessions covering key topics such as compliance\, IT integration\, cybersecurity\, and medical equipment management. \nClick here for more information.
URL:https://www.isssolutions.com/event/md-expo-2026/
LOCATION:Baltimore Inner Harbor
ATTACH;FMTTYPE=image/jpeg:https://www.isssolutions.com/wp-content/uploads/2026/01/MD-Expo-2026.jpg
END:VEVENT
BEGIN:VEVENT
DTSTART;TZID=UTC:20251016T080000
DTEND;TZID=UTC:20251018T170000
DTSTAMP:20260424T134829
CREATED:20250917T161609Z
LAST-MODIFIED:20250917T161609Z
UID:2138-1760601600-1760806800@www.isssolutions.com
SUMMARY:Becker’s 31st Annual Meeting: The Business & Operations of ASCs
DESCRIPTION:Meet our team at Becker’s 31st Annual Meeting: The Business & Operations of ASCs on October 16–18\, 2025\, at the Swissôtel in Chicago\, IL. Jenny Dincher and Joe Blackwell will be in attendance\, highlighting our HTM Maintenance Solutions and how they deliver measurable value to ambulatory surgery center facilities nationwide. Stop by booth #1003 to see us.
URL:https://www.isssolutions.com/event/beckersannual25/
LOCATION:Swissotel Chicago\, 323 E Wacker Dr\, Chicago\, IL\, 60601\, United States
ATTACH;FMTTYPE=image/jpeg:https://www.isssolutions.com/wp-content/uploads/2025/09/Beckers-Annual-Meeting.jpg
END:VEVENT
BEGIN:VEVENT
DTSTART;TZID=UTC:20251015T080000
DTEND;TZID=UTC:20251016T170000
DTSTAMP:20260424T134829
CREATED:20250917T161256Z
LAST-MODIFIED:20250917T161256Z
UID:2135-1760515200-1760634000@www.isssolutions.com
SUMMARY:New England Society of Clinical Engineers HTM Symposium 2025
DESCRIPTION:ISS Solutions will be exhibiting at the NESCE 2025 HTM Symposium on October 15–16\, 2025\, at the DoubleTree by Hilton in Manchester\, NH. Tim Langan and Scott Irwin will be representing ISS Solutions and showcasing our CMMS Consulting Solutions\, designed to help organizations optimize asset management\, streamline workflows\, and improve the functionality of their CMMS platforms. Stop by booth #46 to see us.
URL:https://www.isssolutions.com/event/nescesymposium-2025/
LOCATION:DoubleTree by Hilton\, 700 Elm Street\, Manchester\, NH\, 03101\, United States
ATTACH;FMTTYPE=image/jpeg:https://www.isssolutions.com/wp-content/uploads/2025/09/NESCE-2025.jpg
END:VEVENT
BEGIN:VEVENT
DTSTART;TZID=UTC:20251005T080000
DTEND;TZID=UTC:20251006T170000
DTSTAMP:20260424T134829
CREATED:20250917T160608Z
LAST-MODIFIED:20250917T160608Z
UID:2129-1759651200-1759770000@www.isssolutions.com
SUMMARY:Pennsylvania ASC 2025 Conference
DESCRIPTION:ISS Solutions is excited to be exhibiting at the Pennsylvania ASC 2025 Conference on October 5–6\, 2025\, at the Eden Resort & Suites in Lancaster\, PA. Jenny Dincher and Lori Allocca will be on-site to connect with attendees and share more about our HTM Maintenance Solutions that support ambulatory surgery centers with safe\, reliable\, and cost-effective equipment management. Stop by Booth 17 to see us.
URL:https://www.isssolutions.com/event/pennsylvania-asc-2025-conference/
LOCATION:Eden Resort & Suites\, 222 Eden Road\, Lancaster\, PA\, 17601\, United States
ATTACH;FMTTYPE=image/jpeg:https://www.isssolutions.com/wp-content/uploads/2025/09/PA_ASC_2025.jpg
END:VEVENT
BEGIN:VEVENT
DTSTART;TZID=UTC:20250620T073000
DTEND;TZID=UTC:20250623T170000
DTSTAMP:20260424T134829
CREATED:20250606T185247Z
LAST-MODIFIED:20250616T131454Z
UID:2080-1750404600-1750698000@www.isssolutions.com
SUMMARY:AAMI eXchange 2025
DESCRIPTION:Join ISS Solutions at AAMI eXchange 2025 – Booth #3026 \nISS Solutions is excited to exhibit at the AAMI eXchange in New Orleans\, LA\, from June 20–23\, 2025 — the premier event where the entire field of Healthcare Technology Management (HTM) comes together to learn\, connect\, and explore the future of health technology. \nVisit us at Booth #3026\, where our representatives will be on hand to showcase ISS’s industry-leading CMMS Consulting services. Discover how our customized solutions can help optimize your clinical asset management systems\, improve workflows\, and support compliance and efficiency within your organization. \nDon’t miss this opportunity to network with industry experts\, explore cutting-edge innovations\, and see how ISS Solutions is driving the future of HTM. \nWe look forward to seeing you in New Orleans! \nREGISTER
URL:https://www.isssolutions.com/event/aami-exchange-2025/
LOCATION:Ernest N. Morial Convention Center\, 900 Convention Center Blvd.\, New Orleans\, LA\, 70130
ATTACH;FMTTYPE=image/jpeg:https://www.isssolutions.com/wp-content/uploads/2025/05/AAMI-Exchange-2025.jpg
END:VEVENT
BEGIN:VEVENT
DTSTART;TZID=UTC:20250611T160000
DTEND;TZID=UTC:20250613T120000
DTSTAMP:20260424T134829
CREATED:20250606T184441Z
LAST-MODIFIED:20250606T184441Z
UID:2076-1749657600-1749816000@www.isssolutions.com
SUMMARY:Gulf States ASC Conference
DESCRIPTION:Join ISS Solutions at the Gulf States ASC Conference – Booth #42! \nWe’re excited to announce that ISS Solutions will be exhibiting at the Gulf States ASC Conference\, taking place June 11–13 at the elegant Ritz-Carlton in New Orleans. This event is recognized as one of the most comprehensive ambulatory surgery center (ASC) conferences in the South\, bringing together industry leaders\, innovators\, and decision-makers from across the region. \nStop by Booth #42 to meet our knowledgeable team members\, who will be on hand to share how ISS Solutions’ Healthcare Technology Management (HTM) services can help streamline operations\, improve compliance\, and enhance patient safety in your ASC. \nWhether you’re looking to optimize your medical equipment lifecycle\, improve cost-efficiency\, or simply learn more about how our HTM solutions can support your clinical and operational goals\, our team is ready to chat. \nDon’t miss this opportunity to connect with us in New Orleans — we look forward to seeing you there!
URL:https://www.isssolutions.com/event/gulf-states-asc-conference/
LOCATION:The Ritz-Carlton\, New Orleans\, 921 Canal St.\, New Orleans\, LA\, 70112
ATTACH;FMTTYPE=image/jpeg:https://www.isssolutions.com/wp-content/uploads/2025/05/GulfStatesASC_Conference2025.jpg
END:VEVENT
END:VCALENDAR